BEGIN:VCALENDAR
VERSION:2.0
PRODID:-//AdvanceAEC - ECPv5.12.2//NONSGML v1.0//EN
CALSCALE:GREGORIAN
METHOD:PUBLISH
X-WR-CALNAME:AdvanceAEC
X-ORIGINAL-URL:https://www.advanceaec.net
X-WR-CALDESC:Events for AdvanceAEC
REFRESH-INTERVAL;VALUE=DURATION:PT1H
X-Robots-Tag:noindex
X-PUBLISHED-TTL:PT1H
BEGIN:VTIMEZONE
TZID:Europe/Berlin
BEGIN:DAYLIGHT
TZOFFSETFROM:+0100
TZOFFSETTO:+0200
TZNAME:CEST
DTSTART:20260329T010000
END:DAYLIGHT
BEGIN:STANDARD
TZOFFSETFROM:+0200
TZOFFSETTO:+0100
TZNAME:CET
DTSTART:20261025T010000
END:STANDARD
END:VTIMEZONE
BEGIN:VEVENT
DTSTART;TZID=Europe/Berlin:20260326T160000
DTEND;TZID=Europe/Berlin:20260329T180000
DTSTAMP:20260423T134033
CREATED:20260318T132624Z
LAST-MODIFIED:20260325T095655Z
UID:5520-1774540800-1774807200@www.advanceaec.net
SUMMARY:ICD Research Talk – Xiliu Yang
DESCRIPTION:topic\nAlles Material bleibt\, die Frage ist nur wie wir damit die Bedürfnisse aller Menschen möglichst gut erfüllen\, statt immer schneller immer grösserer Deponien zu füllen.\nWie geht es also\, das Bauen im Kreislauf?\nDer Vortrag gibt Einblicke  in die rasante Entwicklung der letzten 5 Jahre ReUse-Praxis in der Schweiz – von Pilotprojekten zu landesweiten ReUse-Materialströmen. \ndate\nWednesday\, January 14\, 2026\, 03:15 p.m. \n This lecture is part of the AdvanceAEC partner seminar series. Please register or log-in to your account to access the event credentials. \n  \n\n\ncharlotte bofinger\nCharlotte Bofinger begann 2010 Bauingenieurwesen an der Universität Stuttgart zu studieren und schloss 2013 ihr Bachelor- und 2015 ihr Masterstudium mit Schwerpunkt Modellierung und Simulation ab. Sie war anschließend bis 2019 im Büro Conzett Bronzini Partner AG in Chur als Tragwerksplanerin beschäftigt. 2019 ging sie für drei Monate in Europa auf Reisen und arbeitete auf privaten Baustellen im Bereich des nachhaltigen und traditionellen Bauens. Im Büro Thomas Ekwall Tragwerksplaner ETH in Chur konnte sie 2020 ihren ersten ressourcenschonenden Umbau umsetzen. Seit 2018 setzt sie sich in Weiterbildungen und intensivem Selbststudium mit nachhaltiger Bauweise auseinander. Im Jahr 2020 studierte und forschte sie im Rahmen des Fortbildungsstudiums Regenerative Materialien – earth. bio-based. reused an der ETH Zürich. Seit Mai 2021 ist sie bei Zirkular in Basel beschäftigt. Sie ist Gründungsmitglied des Rethink Materials Kollektivs und engagiert sich als aktives Mitglied bei Architects for Future.
URL:https://www.advanceaec.net/event/icd-research-talk-xiliu-yang/
ATTACH;FMTTYPE=image/png:https://www.advanceaec.net/wp-content/uploads/2026/03/XiliuYang-profile-image-bw.png
END:VEVENT
BEGIN:VEVENT
DTSTART;TZID=Europe/Berlin:20260423T090000
DTEND;TZID=Europe/Berlin:20260423T210000
DTSTAMP:20260423T134033
CREATED:20260218T103742Z
LAST-MODIFIED:20260417T074603Z
UID:5500-1776934800-1776978000@www.advanceaec.net
SUMMARY:IntCDC Spring Conference 2026
DESCRIPTION:topic\nAlles Material bleibt\, die Frage ist nur wie wir damit die Bedürfnisse aller Menschen möglichst gut erfüllen\, statt immer schneller immer grösserer Deponien zu füllen.\nWie geht es also\, das Bauen im Kreislauf?\nDer Vortrag gibt Einblicke  in die rasante Entwicklung der letzten 5 Jahre ReUse-Praxis in der Schweiz – von Pilotprojekten zu landesweiten ReUse-Materialströmen. \ndate\nWednesday\, January 14\, 2026\, 03:15 p.m. \n This lecture is part of the AdvanceAEC partner seminar series. Please register or log-in to your account to access the event credentials. \n  \n\n\ncharlotte bofinger\nCharlotte Bofinger begann 2010 Bauingenieurwesen an der Universität Stuttgart zu studieren und schloss 2013 ihr Bachelor- und 2015 ihr Masterstudium mit Schwerpunkt Modellierung und Simulation ab. Sie war anschließend bis 2019 im Büro Conzett Bronzini Partner AG in Chur als Tragwerksplanerin beschäftigt. 2019 ging sie für drei Monate in Europa auf Reisen und arbeitete auf privaten Baustellen im Bereich des nachhaltigen und traditionellen Bauens. Im Büro Thomas Ekwall Tragwerksplaner ETH in Chur konnte sie 2020 ihren ersten ressourcenschonenden Umbau umsetzen. Seit 2018 setzt sie sich in Weiterbildungen und intensivem Selbststudium mit nachhaltiger Bauweise auseinander. Im Jahr 2020 studierte und forschte sie im Rahmen des Fortbildungsstudiums Regenerative Materialien – earth. bio-based. reused an der ETH Zürich. Seit Mai 2021 ist sie bei Zirkular in Basel beschäftigt. Sie ist Gründungsmitglied des Rethink Materials Kollektivs und engagiert sich als aktives Mitglied bei Architects for Future.
URL:https://www.advanceaec.net/event/intcdc-spring-conference-2026/
ATTACH;FMTTYPE=image/jpeg:https://www.advanceaec.net/wp-content/uploads/2026/02/Key-visual_spring-conference-2026.jpg
END:VEVENT
BEGIN:VEVENT
DTSTART;TZID=Europe/Berlin:20260520T090000
DTEND;TZID=Europe/Berlin:20260523T200000
DTSTAMP:20260423T134033
CREATED:20260220T155829Z
LAST-MODIFIED:20260323T095659Z
UID:5510-1779267600-1779566400@www.advanceaec.net
SUMMARY:Future of Construction 2026 – Early Registration conclude March 22
DESCRIPTION:topic\nAlles Material bleibt\, die Frage ist nur wie wir damit die Bedürfnisse aller Menschen möglichst gut erfüllen\, statt immer schneller immer grösserer Deponien zu füllen.\nWie geht es also\, das Bauen im Kreislauf?\nDer Vortrag gibt Einblicke  in die rasante Entwicklung der letzten 5 Jahre ReUse-Praxis in der Schweiz – von Pilotprojekten zu landesweiten ReUse-Materialströmen. \ndate\nWednesday\, January 14\, 2026\, 03:15 p.m. \n This lecture is part of the AdvanceAEC partner seminar series. Please register or log-in to your account to access the event credentials. \n  \n\n\ncharlotte bofinger\nCharlotte Bofinger begann 2010 Bauingenieurwesen an der Universität Stuttgart zu studieren und schloss 2013 ihr Bachelor- und 2015 ihr Masterstudium mit Schwerpunkt Modellierung und Simulation ab. Sie war anschließend bis 2019 im Büro Conzett Bronzini Partner AG in Chur als Tragwerksplanerin beschäftigt. 2019 ging sie für drei Monate in Europa auf Reisen und arbeitete auf privaten Baustellen im Bereich des nachhaltigen und traditionellen Bauens. Im Büro Thomas Ekwall Tragwerksplaner ETH in Chur konnte sie 2020 ihren ersten ressourcenschonenden Umbau umsetzen. Seit 2018 setzt sie sich in Weiterbildungen und intensivem Selbststudium mit nachhaltiger Bauweise auseinander. Im Jahr 2020 studierte und forschte sie im Rahmen des Fortbildungsstudiums Regenerative Materialien – earth. bio-based. reused an der ETH Zürich. Seit Mai 2021 ist sie bei Zirkular in Basel beschäftigt. Sie ist Gründungsmitglied des Rethink Materials Kollektivs und engagiert sich als aktives Mitglied bei Architects for Future.
URL:https://www.advanceaec.net/event/future-of-construction-2026-early-registration-conclude-march-22/
ATTACH;FMTTYPE=image/jpeg:https://www.advanceaec.net/wp-content/uploads/2026/02/FoC-Square.jpg
END:VEVENT
BEGIN:VEVENT
DTSTART;TZID=Europe/Berlin:20261031T000000
DTEND;TZID=Europe/Berlin:20261031T233000
DTSTAMP:20260423T134033
CREATED:20260325T100212Z
LAST-MODIFIED:20260325T101030Z
UID:5534-1793404800-1793489400@www.advanceaec.net
SUMMARY:Stuttgarter Leichtbaupreis 2025 and CfA Stuttgarter Leichtbaupreis 2026
DESCRIPTION:topic\nAlles Material bleibt\, die Frage ist nur wie wir damit die Bedürfnisse aller Menschen möglichst gut erfüllen\, statt immer schneller immer grösserer Deponien zu füllen.\nWie geht es also\, das Bauen im Kreislauf?\nDer Vortrag gibt Einblicke  in die rasante Entwicklung der letzten 5 Jahre ReUse-Praxis in der Schweiz – von Pilotprojekten zu landesweiten ReUse-Materialströmen. \ndate\nWednesday\, January 14\, 2026\, 03:15 p.m. \n This lecture is part of the AdvanceAEC partner seminar series. Please register or log-in to your account to access the event credentials. \n  \n\n\ncharlotte bofinger\nCharlotte Bofinger begann 2010 Bauingenieurwesen an der Universität Stuttgart zu studieren und schloss 2013 ihr Bachelor- und 2015 ihr Masterstudium mit Schwerpunkt Modellierung und Simulation ab. Sie war anschließend bis 2019 im Büro Conzett Bronzini Partner AG in Chur als Tragwerksplanerin beschäftigt. 2019 ging sie für drei Monate in Europa auf Reisen und arbeitete auf privaten Baustellen im Bereich des nachhaltigen und traditionellen Bauens. Im Büro Thomas Ekwall Tragwerksplaner ETH in Chur konnte sie 2020 ihren ersten ressourcenschonenden Umbau umsetzen. Seit 2018 setzt sie sich in Weiterbildungen und intensivem Selbststudium mit nachhaltiger Bauweise auseinander. Im Jahr 2020 studierte und forschte sie im Rahmen des Fortbildungsstudiums Regenerative Materialien – earth. bio-based. reused an der ETH Zürich. Seit Mai 2021 ist sie bei Zirkular in Basel beschäftigt. Sie ist Gründungsmitglied des Rethink Materials Kollektivs und engagiert sich als aktives Mitglied bei Architects for Future.
URL:https://www.advanceaec.net/event/stuttgarter-leichtbaupreis-2025-and-cfa-stuttgarter-leichtbaupreis-2026/
ATTACH;FMTTYPE=image/png:https://www.advanceaec.net/wp-content/uploads/2026/03/Stuttgarter-Leichtbaupreis-2026_call.png
END:VEVENT
END:VCALENDAR